BEGIN:VCALENDAR
VERSION:2.0
PRODID:-//sam-concept - ECPv6.15.20//NONSGML v1.0//EN
CALSCALE:GREGORIAN
METHOD:PUBLISH
X-WR-CALNAME:sam-concept
X-ORIGINAL-URL:https://sam-concept.eu
X-WR-CALDESC:Veranstaltungen für sam-concept
REFRESH-INTERVAL;VALUE=DURATION:PT1H
X-Robots-Tag:noindex
X-PUBLISHED-TTL:PT1H
BEGIN:VTIMEZONE
TZID:Europe/Berlin
BEGIN:DAYLIGHT
TZOFFSETFROM:+0100
TZOFFSETTO:+0200
TZNAME:CEST
DTSTART:20250330T010000
END:DAYLIGHT
BEGIN:STANDARD
TZOFFSETFROM:+0200
TZOFFSETTO:+0100
TZNAME:CET
DTSTART:20251026T010000
END:STANDARD
BEGIN:DAYLIGHT
TZOFFSETFROM:+0100
TZOFFSETTO:+0200
TZNAME:CEST
DTSTART:20260329T010000
END:DAYLIGHT
BEGIN:STANDARD
TZOFFSETFROM:+0200
TZOFFSETTO:+0100
TZNAME:CET
DTSTART:20261025T010000
END:STANDARD
BEGIN:DAYLIGHT
TZOFFSETFROM:+0100
TZOFFSETTO:+0200
TZNAME:CEST
DTSTART:20270328T010000
END:DAYLIGHT
BEGIN:STANDARD
TZOFFSETFROM:+0200
TZOFFSETTO:+0100
TZNAME:CET
DTSTART:20271031T010000
END:STANDARD
END:VTIMEZONE
BEGIN:VEVENT
DTSTART;TZID=Europe/Berlin:20260321T090000
DTEND;TZID=Europe/Berlin:20260322T170000
DTSTAMP:20260420T130204
CREATED:20250514T075310Z
LAST-MODIFIED:20250514T080538Z
UID:18531-1774083600-1774198800@sam-concept.eu
SUMMARY:SOK Münster
DESCRIPTION:Sicher Auftreten \nIn der Schulung SOK werden dialogisch orientierte Selbst- und Fremdschutztechniken nach dem SAM-Konzept vermittelt. Diese Techniken sind so ausgelegt\, dass Gewalt umgeleitet wird\, statt sie festzuhalten oder ihr entgegenzutreten. Körpergröße und Kraft spielen bei SOK eine untergeordnete Rolle. \nWeitere Informationen und zur Anmeldung gelangen Sie hier.
URL:https://sam-concept.eu/events/sok-muenster/
LOCATION:Münster\, Waldeyer Str. 73\, Münster\, Nordrhein-Westfalen\, 48149\, Deutschland
CATEGORIES:Schützen ohne Kämpfen (SOK)
END:VEVENT
END:VCALENDAR